BEGIN:VCALENDAR
VERSION:2.0
PRODID:-//eventon.com NONSGML v1.0//EN
CALSCALE:GREGORIAN
METHOD:PUBLISH
BEGIN:VEVENT
UID:69e88b19bee0b
DTSTAMP:20260422T084721Z
DTSTART:20260211T133000Z
DTEND:20260211T143000Z
LOCATION:Kinder- und Familienzentrum bärenstark Alfred-Delp-Ring 8\,  99087 Erfurt
SUMMARY:Lesezeit
DESCRIPTION:Bei der Lesezeit tauchen wir gemeinsam in spannende Geschichten
  ein. Vorlesen\,  Zuhören und eigenes Entdecken stehen im Mittelpunkt. Fü
 r Kinder die Bücher lieben und Neues erleben wollen\,  die perfekte Gelege
 nheit!\nhttps://jesus-projekt-erfurt.de/events/lesezeit/var/ri-5.l-L1
URL:https://jesus-projekt-erfurt.de/events/lesezeit/var/ri-5.l-L1
END:VEVENT
END:VCALENDAR