BEGIN:VCALENDAR
VERSION:2.0
PRODID:-//eventon.com NONSGML v1.0//EN
CALSCALE:GREGORIAN
METHOD:PUBLISH
BEGIN:VEVENT
UID:69e88be610d38
DTSTAMP:20260422T085046Z
DTSTART:20260308T150000Z
DTEND:20260308T170000Z
LOCATION:Begegnungszentrum ANDERS Alfred-Delp-Ring 78\,  99087 Erfurt
SUMMARY:Sonntag mit Freunden
DESCRIPTION:Einmal im Monat findet unter dem Motto â€žGemeinschaft leben â€
 “ Glauben teilen â€“ Gebet erfahrenâ€ś der â€žSonntag mit Freundenâ€ś statt
 . Die Veranstaltung beginnt mit Kaffee und Kuchen\,  gefolgt von einem abwe
 chslungsreichen Programm mit Musik\,  Theater\,  kreativen Aktionen und ein
 em kurzen Impuls zu einem Lebensthema. AnschlieĂźend wird in kleinen GesprĂ
 ¤chsrunden ĂĽber[..]\nhttps://jesus-projekt-erfurt.de/events/sonntag-mit-fr
 eunden-5/
URL:https://jesus-projekt-erfurt.de/events/sonntag-mit-freunden-5/
END:VEVENT
END:VCALENDAR