BEGIN:VCALENDAR
VERSION:2.0
PRODID:-//eventon.com NONSGML v1.0//EN
CALSCALE:GREGORIAN
METHOD:PUBLISH
BEGIN:VEVENT
UID:69e8a192901db
DTSTAMP:20260422T102314Z
DTSTART:20260329T130000Z
DTEND:20260329T150000Z
LOCATION:Kinder- und Familienzentrum &#039;bÃ¤renstark&#039; Alfred-Delp-Ring 8\,  99087 Erfurt
SUMMARY:Sonntag mit Freunden und Kinder-Musical
DESCRIPTION:Einmal im Monat findet unter dem Motto â€žGemeinschaft leben â€
 “ Glauben teilen â€“ Gebet erfahrenâ€œ der â€žSonntag mit Freundenâ€œ statt
 . Diesmal treffen wir uns im Kinder- und Familienzentrum &#8218;bÃ¤renstark
 &#8216;. Die Veranstaltung beginnt ausnahmsweise um 15 Uhr. Denn uns erwart
 et die AuffÃ¼hrung eines Kinder-Musicals zur MatthÃ¤us-Passion. AnschlieÃŸe
 nd ist bei Kaffee und[..]\nhttps://jesus-projekt-erfurt.de/events/sonntag-m
 it-freunden-mit-kinder-musical/
URL:https://jesus-projekt-erfurt.de/events/sonntag-mit-freunden-mit-kinder-musical/
END:VEVENT
END:VCALENDAR